BEGIN:VCALENDAR
PRODID:-//github.com/rianjs/ical.net//NONSGML ical.net 4.0//EN
VERSION:2.0
BEGIN:VEVENT
DESCRIPTION:Join Gold Coast Rotarians for our twice monthly dinner meeting
  with great speakers and fellowship. Guests adnd visiting Rotarians welsc
 ome.   Check out our Facebook page for details of program. https://www.fa
 cebook.com/GoldCoastRotaryClub/   Book on line at Trybooking
DTEND:20210603T094500Z
DTSTAMP:20210224T051721Z
DTSTART:20210603T074500Z
LOCATION:Southport Golf Club
SEQUENCE:1
STATUS:CONFIRMED
SUMMARY:Gold Coast Rotary Meeting
UID:63aae5ac-1ac5-42d4-ba98-94c29e7e5c82-637583031000000000
X-ALT-DESC:<div><span>Join Gold Coast Rotarians for our twice monthly dinn
 er meeting with great speakers and fellowship. Guests adnd visiting Rotar
 ians welscome.</span></div>\n\n<div>&nbsp\;</div>\n\n<div>Check out our F
 acebook page for details of program. https://www.facebook.com/GoldCoastRo
 taryClub/</div>\n\n<div>&nbsp\;</div>\n\n<div><span>Book on line at Trybo
 oking</span></div>\n
END:VEVENT
END:VCALENDAR
