BEGIN:VCALENDAR
PRODID:-//github.com/rianjs/ical.net//NONSGML ical.net 4.0//EN
VERSION:2.0
BEGIN:VEVENT
DESCRIPTION:Join Gold Coast Rotarians for our twice monthly dinner meeting
  with great speakers and fellowship. Guests adnd visiting Rotarians welsc
 ome.   Check out our Facebook page for details of program. https://www.fa
 cebook.com/GoldCoastRotaryClub/   Book on line at Trybooking
DTEND:20210218T094500Z
DTSTAMP:20210224T051659Z
DTSTART:20210218T074500Z
LOCATION:Southport Golf Club
SEQUENCE:1
STATUS:CONFIRMED
SUMMARY:Gold Coast Rotary Meeting
UID:238aadc1-a7a7-42ce-9049-e1e2228e764e-637492311000000000
X-ALT-DESC:<div>\n<div><span>Join Gold Coast Rotarians for our twice month
 ly dinner meeting with great speakers and fellowship. Guests adnd visitin
 g Rotarians welscome.</span></div>\n\n<div>&nbsp\;</div>\n\n<div>Check ou
 t our Facebook page for details of program. https://www.facebook.com/Gold
 CoastRotaryClub/</div>\n\n<div>&nbsp\;</div>\n\n<div><span>Book on line a
 t Trybooking</span></div>\n</div>\n
END:VEVENT
END:VCALENDAR
